BEGIN:VCALENDAR
VERSION:2.0
PRODID:-//Alaska Business Magazine - ECPv6.15.18//NONSGML v1.0//EN
CALSCALE:GREGORIAN
METHOD:PUBLISH
X-ORIGINAL-URL:https://www.akbizmag.com
X-WR-CALDESC:Events for Alaska Business Magazine
REFRESH-INTERVAL;VALUE=DURATION:PT1H
X-Robots-Tag:noindex
X-PUBLISHED-TTL:PT1H
BEGIN:VTIMEZONE
TZID:America/Anchorage
BEGIN:DAYLIGHT
TZOFFSETFROM:-0900
TZOFFSETTO:-0800
TZNAME:AKDT
DTSTART:20180311T110000
END:DAYLIGHT
BEGIN:STANDARD
TZOFFSETFROM:-0800
TZOFFSETTO:-0900
TZNAME:AKST
DTSTART:20181104T100000
END:STANDARD
BEGIN:DAYLIGHT
TZOFFSETFROM:-0900
TZOFFSETTO:-0800
TZNAME:AKDT
DTSTART:20190310T110000
END:DAYLIGHT
BEGIN:STANDARD
TZOFFSETFROM:-0800
TZOFFSETTO:-0900
TZNAME:AKST
DTSTART:20191103T100000
END:STANDARD
BEGIN:DAYLIGHT
TZOFFSETFROM:-0900
TZOFFSETTO:-0800
TZNAME:AKDT
DTSTART:20200308T110000
END:DAYLIGHT
BEGIN:STANDARD
TZOFFSETFROM:-0800
TZOFFSETTO:-0900
TZNAME:AKST
DTSTART:20201101T100000
END:STANDARD
END:VTIMEZONE
BEGIN:VEVENT
DTSTART;TZID=America/Anchorage:20191026T180000
DTEND;TZID=America/Anchorage:20191026T220000
DTSTAMP:20260419T221044
CREATED:20191001T225646Z
LAST-MODIFIED:20191001T225646Z
UID:10001525-1572112800-1572127200@www.akbizmag.com
SUMMARY:Mighty Monster Boo Fest
DESCRIPTION:Like Halloween? Love great beer? Then don’t miss the Mighty Monster Boo Fest (aka Mighty Matanuska Brewfest) at the Alaska State Fair! The popular annual brewfest\, sanctioned by the Brewers Guild of Alaska and supported by KAYO\, takes place Saturday\, October 26 from 6 – 10 p.m. at Raven Hall on the fairgrounds. \nThere will be plenty of brews and Halloween fun at this year’s event\, which will feature beers and brewers from the Mat-Su Valley\, across Alaska\, and around the world. Among the featured local breweries are 49th State Brewing Co.\, Alaska Ciderworks\, Alaskan Brewing Co.\, Arkose Brewery\, Bear Paw River Brewing Co.\, Bleeding Heart Brewery\, Denali Brewing Co.\, Gakona Brewing Co.\, Girdwood Brewing Co.\, Glacier Brewhouse\, Kassik’s Brewery\, Kenai River Brewing Co.\, King Street Brewing Co.\, Last Frontier Brewing Co.\, Matanuska Brewing Co.\, and Midnight Sun Brewing Co. \nIn celebration of Halloween weekend\, there will be a new faster format for the costume contest with great prizes beginning at 8:45 p.m. Live music by Nervis Rex starts at 7 p.m.\, and a silent auction is also on the agenda for the evening. There will be beer friendly food available for purchase. \nTickets are now available on the Fair website\, as well as at Vagabond Blues\, Three Bears on Palmer-Wasilla and at the new Palmer location\, and Purple Moose Espresso. Each $35 ticket comes with twenty 3-ounce beer samples. Designated driver tickets are also available for $10 and include a non-alcoholic beverage. Convenience fees apply. \nAll attendees\, including designated drivers\, must be 21+ and show a valid ID. Brewfest patrons are reminded to plan in advance for a safe ride home by lining up a designated driver or planning to call a taxi.
URL:https://www.akbizmag.com/alaska-events/mighty-monster-boo-fest/
LOCATION:Alaska State Fairgrounds\, 2075 Glenn Hwy\, Palmer\, AK\, 99654\, United States
ATTACH;FMTTYPE=image/jpeg:https://www.akbizmag.com/wp-content/uploads/2019/10/2019-Boofest-feature-box.jpg
ORGANIZER;CN="Alaska State Fair":MAILTO:info@alaskastatefair.org
END:VEVENT
END:VCALENDAR