BEGIN:VCALENDAR
VERSION:2.0
PRODID:-//Alaska Business Magazine - ECPv6.15.18//NONSGML v1.0//EN
CALSCALE:GREGORIAN
METHOD:PUBLISH
X-WR-CALNAME:Alaska Business Magazine
X-ORIGINAL-URL:https://www.akbizmag.com
X-WR-CALDESC:Events for Alaska Business Magazine
REFRESH-INTERVAL;VALUE=DURATION:PT1H
X-Robots-Tag:noindex
X-PUBLISHED-TTL:PT1H
BEGIN:VTIMEZONE
TZID:America/Anchorage
BEGIN:DAYLIGHT
TZOFFSETFROM:-0900
TZOFFSETTO:-0800
TZNAME:AKDT
DTSTART:20250309T110000
END:DAYLIGHT
BEGIN:STANDARD
TZOFFSETFROM:-0800
TZOFFSETTO:-0900
TZNAME:AKST
DTSTART:20251102T100000
END:STANDARD
BEGIN:DAYLIGHT
TZOFFSETFROM:-0900
TZOFFSETTO:-0800
TZNAME:AKDT
DTSTART:20260308T110000
END:DAYLIGHT
BEGIN:STANDARD
TZOFFSETFROM:-0800
TZOFFSETTO:-0900
TZNAME:AKST
DTSTART:20261101T100000
END:STANDARD
BEGIN:DAYLIGHT
TZOFFSETFROM:-0900
TZOFFSETTO:-0800
TZNAME:AKDT
DTSTART:20270314T110000
END:DAYLIGHT
BEGIN:STANDARD
TZOFFSETFROM:-0800
TZOFFSETTO:-0900
TZNAME:AKST
DTSTART:20271107T100000
END:STANDARD
END:VTIMEZONE
BEGIN:VEVENT
DTSTART;TZID=America/Anchorage:20260325T110000
DTEND;TZID=America/Anchorage:20260325T150000
DTSTAMP:20260420T180716
CREATED:20260304T193916Z
LAST-MODIFIED:20260304T193930Z
UID:10002054-1774436400-1774450800@www.akbizmag.com
SUMMARY:ANC Job Fair
DESCRIPTION:Photo Credit: Ted Stevens Anchorage International Airport \n			\n				\n				\n				\n				\n				Job seekers might find their dream job at the 2026 ANC Job Fair on March 25\, 2026\, at the North Terminal from 11:00 a.m. to 3:00 p.m. Dozens of employers will be on hand\, with hundreds of job opportunities. The ANC Job Fair is airport- and aviation-centric\, with many businesses represented. The job fair is free\, and so is parking at the North Terminal parking lot.
URL:https://www.akbizmag.com/alaska-events/anc-job-fair/
LOCATION:Ted Stevens Anchorage International Airport\, 5800 Lockheed Avenue\, Anchorage\, AK\, 99502\, United States
ATTACH;FMTTYPE=image/webp:https://www.akbizmag.com/wp-content/uploads/2026/03/EVENT_ANC-Job-Fair.webp
ORGANIZER;CN="Ted Stevens Anchorage International Airport":MAILTO:https://dot.alaska.gov/comm/contacts.shtml
END:VEVENT
END:VCALENDAR