BEGIN:VCALENDAR
VERSION:2.0
PRODID:-//Alaska Business Magazine - ECPv6.15.18//NONSGML v1.0//EN
CALSCALE:GREGORIAN
METHOD:PUBLISH
X-ORIGINAL-URL:https://www.akbizmag.com
X-WR-CALDESC:Events for Alaska Business Magazine
REFRESH-INTERVAL;VALUE=DURATION:PT1H
X-Robots-Tag:noindex
X-PUBLISHED-TTL:PT1H
BEGIN:VTIMEZONE
TZID:America/Anchorage
BEGIN:DAYLIGHT
TZOFFSETFROM:-0900
TZOFFSETTO:-0800
TZNAME:AKDT
DTSTART:20240310T110000
END:DAYLIGHT
BEGIN:STANDARD
TZOFFSETFROM:-0800
TZOFFSETTO:-0900
TZNAME:AKST
DTSTART:20241103T100000
END:STANDARD
BEGIN:DAYLIGHT
TZOFFSETFROM:-0900
TZOFFSETTO:-0800
TZNAME:AKDT
DTSTART:20250309T110000
END:DAYLIGHT
BEGIN:STANDARD
TZOFFSETFROM:-0800
TZOFFSETTO:-0900
TZNAME:AKST
DTSTART:20251102T100000
END:STANDARD
BEGIN:DAYLIGHT
TZOFFSETFROM:-0900
TZOFFSETTO:-0800
TZNAME:AKDT
DTSTART:20260308T110000
END:DAYLIGHT
BEGIN:STANDARD
TZOFFSETFROM:-0800
TZOFFSETTO:-0900
TZNAME:AKST
DTSTART:20261101T100000
END:STANDARD
END:VTIMEZONE
BEGIN:VEVENT
DTSTART;TZID=America/Anchorage:20250920T100000
DTEND;TZID=America/Anchorage:20250920T150000
DTSTAMP:20260422T085344
CREATED:20250908T214104Z
LAST-MODIFIED:20250908T214119Z
UID:10002007-1758362400-1758380400@www.akbizmag.com
SUMMARY:17th Annual Mat-Su Emergency Preparedness Expo
DESCRIPTION:Photo Credit: Matanuska-Susitna Borough \n			\n				\n				\n				\n				\n				This free family-friendly event will feature information about how to prepare for earthquakes\, wildfires\, floods\, and more. Attendees will also have the opportunity to learn hands-only CPR\, first aid\, and backcountry safety. There will be new indoor and outdoor exhibits\, emergency preparedness supplies for sale\, live demonstrations\, hands-on activities\, a youth poster contest\, vendors\, food trucks\, door prizes\, and more.
URL:https://www.akbizmag.com/alaska-events/17th-annual-mat-su-emergency-preparedness-expo/
LOCATION:Curtis D. Menard Memorial Sports Center\, 1001 S Clapp St\, Wasilla\, AK\, 99654\, United States
ATTACH;FMTTYPE=image/webp:https://www.akbizmag.com/wp-content/uploads/2025/09/EVENT-17th-Annual-Mat-Su-Emergency-Preparedness-Expo-copy.webp
ORGANIZER;CN="Matanuska-Susitna Borough":MAILTO:https://matsugov.us/contacts
END:VEVENT
END:VCALENDAR