BEGIN:VCALENDAR
VERSION:2.0
PRODID:-//Alaska Business Magazine - ECPv6.15.18//NONSGML v1.0//EN
CALSCALE:GREGORIAN
METHOD:PUBLISH
X-WR-CALNAME:Alaska Business Magazine
X-ORIGINAL-URL:https://www.akbizmag.com
X-WR-CALDESC:Events for Alaska Business Magazine
REFRESH-INTERVAL;VALUE=DURATION:PT1H
X-Robots-Tag:noindex
X-PUBLISHED-TTL:PT1H
BEGIN:VTIMEZONE
TZID:America/Anchorage
BEGIN:DAYLIGHT
TZOFFSETFROM:-0900
TZOFFSETTO:-0800
TZNAME:AKDT
DTSTART:20240310T110000
END:DAYLIGHT
BEGIN:STANDARD
TZOFFSETFROM:-0800
TZOFFSETTO:-0900
TZNAME:AKST
DTSTART:20241103T100000
END:STANDARD
BEGIN:DAYLIGHT
TZOFFSETFROM:-0900
TZOFFSETTO:-0800
TZNAME:AKDT
DTSTART:20250309T110000
END:DAYLIGHT
BEGIN:STANDARD
TZOFFSETFROM:-0800
TZOFFSETTO:-0900
TZNAME:AKST
DTSTART:20251102T100000
END:STANDARD
BEGIN:DAYLIGHT
TZOFFSETFROM:-0900
TZOFFSETTO:-0800
TZNAME:AKDT
DTSTART:20260308T110000
END:DAYLIGHT
BEGIN:STANDARD
TZOFFSETFROM:-0800
TZOFFSETTO:-0900
TZNAME:AKST
DTSTART:20261101T100000
END:STANDARD
END:VTIMEZONE
BEGIN:VEVENT
DTSTART;VALUE=DATE:20250924
DTEND;VALUE=DATE:20250928
DTSTAMP:20260422T090906
CREATED:20250729T182942Z
LAST-MODIFIED:20250729T183005Z
UID:10002000-1758672000-1759017599@www.akbizmag.com
SUMMARY:2025 Alaska Superintendents Association Fall Conference
DESCRIPTION:Photo Credit: Alaska Superintendents Association \n			\n				\n				\n				\n				\n				The Alaska Superintendents Association Fall Conference is a one-of-a-kind opportunity for Alaska superintendents to come together for connection\, collaboration\, and shared learning. This event brings district leaders from across the state to explore timely challenges\, exchange practical strategies\, and engage in meaningful conversations that strengthen leadership and support student success. Alongside informative sessions\, participants will enjoy time to network\, recharge\, and have a little fun with colleagues who understand the unique demands of the role. Join as the group tackles real issues\, celebrates its work\, and builds momentum for the future together.
URL:https://www.akbizmag.com/alaska-events/2025-alaska-superintendents-association-fall-conference/
LOCATION:Wedgewood Resort\, 212 Wedgewood Drive\, Fairbanks\, AK\, 99701\, United States
ATTACH;FMTTYPE=image/webp:https://www.akbizmag.com/wp-content/uploads/2025/07/EVENT-2025-ASA-Fall-Conference.webp
END:VEVENT
END:VCALENDAR