BEGIN:VCALENDAR
VERSION:2.0
PRODID:-//Alaska Business Magazine - ECPv6.15.18//NONSGML v1.0//EN
CALSCALE:GREGORIAN
METHOD:PUBLISH
X-ORIGINAL-URL:https://www.akbizmag.com
X-WR-CALDESC:Events for Alaska Business Magazine
REFRESH-INTERVAL;VALUE=DURATION:PT1H
X-Robots-Tag:noindex
X-PUBLISHED-TTL:PT1H
BEGIN:VTIMEZONE
TZID:America/Anchorage
BEGIN:DAYLIGHT
TZOFFSETFROM:-0900
TZOFFSETTO:-0800
TZNAME:AKDT
DTSTART:20180311T110000
END:DAYLIGHT
BEGIN:STANDARD
TZOFFSETFROM:-0800
TZOFFSETTO:-0900
TZNAME:AKST
DTSTART:20181104T100000
END:STANDARD
BEGIN:DAYLIGHT
TZOFFSETFROM:-0900
TZOFFSETTO:-0800
TZNAME:AKDT
DTSTART:20190310T110000
END:DAYLIGHT
BEGIN:STANDARD
TZOFFSETFROM:-0800
TZOFFSETTO:-0900
TZNAME:AKST
DTSTART:20191103T100000
END:STANDARD
BEGIN:DAYLIGHT
TZOFFSETFROM:-0900
TZOFFSETTO:-0800
TZNAME:AKDT
DTSTART:20200308T110000
END:DAYLIGHT
BEGIN:STANDARD
TZOFFSETFROM:-0800
TZOFFSETTO:-0900
TZNAME:AKST
DTSTART:20201101T100000
END:STANDARD
BEGIN:DAYLIGHT
TZOFFSETFROM:-0900
TZOFFSETTO:-0800
TZNAME:AKDT
DTSTART:20210314T110000
END:DAYLIGHT
BEGIN:STANDARD
TZOFFSETFROM:-0800
TZOFFSETTO:-0900
TZNAME:AKST
DTSTART:20211107T100000
END:STANDARD
BEGIN:DAYLIGHT
TZOFFSETFROM:-0900
TZOFFSETTO:-0800
TZNAME:AKDT
DTSTART:20220313T110000
END:DAYLIGHT
BEGIN:STANDARD
TZOFFSETFROM:-0800
TZOFFSETTO:-0900
TZNAME:AKST
DTSTART:20221106T100000
END:STANDARD
BEGIN:DAYLIGHT
TZOFFSETFROM:-0900
TZOFFSETTO:-0800
TZNAME:AKDT
DTSTART:20230312T110000
END:DAYLIGHT
BEGIN:STANDARD
TZOFFSETFROM:-0800
TZOFFSETTO:-0900
TZNAME:AKST
DTSTART:20231105T100000
END:STANDARD
BEGIN:DAYLIGHT
TZOFFSETFROM:-0900
TZOFFSETTO:-0800
TZNAME:AKDT
DTSTART:20240310T110000
END:DAYLIGHT
BEGIN:STANDARD
TZOFFSETFROM:-0800
TZOFFSETTO:-0900
TZNAME:AKST
DTSTART:20241103T100000
END:STANDARD
BEGIN:DAYLIGHT
TZOFFSETFROM:-0900
TZOFFSETTO:-0800
TZNAME:AKDT
DTSTART:20250309T110000
END:DAYLIGHT
BEGIN:STANDARD
TZOFFSETFROM:-0800
TZOFFSETTO:-0900
TZNAME:AKST
DTSTART:20251102T100000
END:STANDARD
BEGIN:DAYLIGHT
TZOFFSETFROM:-0900
TZOFFSETTO:-0800
TZNAME:AKDT
DTSTART:20260308T110000
END:DAYLIGHT
BEGIN:STANDARD
TZOFFSETFROM:-0800
TZOFFSETTO:-0900
TZNAME:AKST
DTSTART:20261101T100000
END:STANDARD
END:VTIMEZONE
BEGIN:VEVENT
DTSTART;TZID=America/Anchorage:20250503T100000
DTEND;TZID=America/Anchorage:20250503T140000
DTSTAMP:20260422T041335
CREATED:20250421T213518Z
LAST-MODIFIED:20250421T213531Z
UID:10001983-1746266400-1746280800@www.akbizmag.com
SUMMARY:All Aboard for the 2025 Alaska Railroad Open House
DESCRIPTION:Photo Credit: Alaska Railroad \n			\n				\n				\n				\n				\n				The Alaska Railroad’s community Open House will return in 2025 to Anchorage. The event provides Alaskans with a unique opportunity to interact with railroaders and to learn about the state’s railroad\, offering train rides\, static displays of railroad locomotives\, and other activities. Event entrance\, parking\, and train rides are all free\, as are other activities and entertainment. The open house is a family-friendly\, accessible event. Free train rides will be offered every thirty minutes starting at 10 a.m. The final train will depart at 1:30 p.m.
URL:https://www.akbizmag.com/alaska-events/all-aboard-for-the-2025-alaska-railroad-open-house/
LOCATION:Alaska Railroad Historic Depot\, 411 West 1st Avenue\, Anchorage\, AK\, 99501\, United States
ATTACH;FMTTYPE=image/webp:https://www.akbizmag.com/wp-content/uploads/2025/04/EVENT-Alaska-Railroad-Open-House-copy.webp
END:VEVENT
BEGIN:VEVENT
DTSTART;TZID=America/Anchorage:20190928T160000
DTEND;TZID=America/Anchorage:20190928T203000
DTSTAMP:20260422T041335
CREATED:20190830T183238Z
LAST-MODIFIED:20190830T183238Z
UID:10001502-1569686400-1569702600@www.akbizmag.com
SUMMARY:The HooDoo Choo Choo
DESCRIPTION:Experience great brews and amazing views onboard the Alaska Railroad’s HooDoo Choo Choo. A leisurely round-trip journey from Fairbanks to Nenana allows passengers the opportunity to relax and sample six half-pints of the popular HooDoo Brewing beer\, as well as delicious seasonal fare. Tickets go on sale Aug. 30. Don’t miss this Oktoberfest celebration on the rails!
URL:https://www.akbizmag.com/alaska-events/the-hoodoo-choo-choo/
ATTACH;FMTTYPE=image/png:https://www.akbizmag.com/wp-content/uploads/2019/08/alaskarailroad_hoodoochoochoo_hoodoobrew_credit_nate_hokenson.png
END:VEVENT
END:VCALENDAR