BEGIN:VCALENDAR
VERSION:2.0
PRODID:-//Alaska Business Magazine - ECPv6.15.18//NONSGML v1.0//EN
CALSCALE:GREGORIAN
METHOD:PUBLISH
X-ORIGINAL-URL:https://www.akbizmag.com
X-WR-CALDESC:Events for Alaska Business Magazine
REFRESH-INTERVAL;VALUE=DURATION:PT1H
X-Robots-Tag:noindex
X-PUBLISHED-TTL:PT1H
BEGIN:VTIMEZONE
TZID:America/Anchorage
BEGIN:DAYLIGHT
TZOFFSETFROM:-0900
TZOFFSETTO:-0800
TZNAME:AKDT
DTSTART:20220313T110000
END:DAYLIGHT
BEGIN:STANDARD
TZOFFSETFROM:-0800
TZOFFSETTO:-0900
TZNAME:AKST
DTSTART:20221106T100000
END:STANDARD
BEGIN:DAYLIGHT
TZOFFSETFROM:-0900
TZOFFSETTO:-0800
TZNAME:AKDT
DTSTART:20230312T110000
END:DAYLIGHT
BEGIN:STANDARD
TZOFFSETFROM:-0800
TZOFFSETTO:-0900
TZNAME:AKST
DTSTART:20231105T100000
END:STANDARD
BEGIN:DAYLIGHT
TZOFFSETFROM:-0900
TZOFFSETTO:-0800
TZNAME:AKDT
DTSTART:20240310T110000
END:DAYLIGHT
BEGIN:STANDARD
TZOFFSETFROM:-0800
TZOFFSETTO:-0900
TZNAME:AKST
DTSTART:20241103T100000
END:STANDARD
END:VTIMEZONE
BEGIN:VEVENT
DTSTART;TZID=America/Anchorage:20230407T170000
DTEND;TZID=America/Anchorage:20230407T200000
DTSTAMP:20260421T052652
CREATED:20230320T163933Z
LAST-MODIFIED:20230320T180529Z
UID:10001801-1680886800-1680897600@www.akbizmag.com
SUMMARY:Perfect Pitch
DESCRIPTION:wavebreakmedia | Envato \n			\n				\n				\n				\n				\n				Aspiring entrepreneurs will showcase their ideas and present their investor pitches to a live audience during Pitch Perfect\, the finale of the 2023 UAA College of Business and Public Policy Business Plan Competition. Expert judges will give feedback to the contestants and deliberate on the winners while the audience votes on the People’s Choice Award.The free event will be held at UAA’s Rasmuson Hall. It starts with a mini trade show at 5 p.m.\, remarks from Alaska State Senator Shelley Hughes\, and then finalist pitches. In addition to a fun and inspiring evening\, you’ll enjoy refreshments and a chance for door prizes. Help support the efforts of our local entrepreneurs from the community and UAA.
URL:https://www.akbizmag.com/alaska-events/perfect-pitch/
LOCATION:Rasmuson Hall\, UAA\, 3416 Seawolf Dr.\, Anchorage\, 99508\, United States
ATTACH;FMTTYPE=image/webp:https://www.akbizmag.com/wp-content/uploads/2023/03/rear-view-of-businesswoman-giving-presentation-envato.webp
ORGANIZER;CN="UAA College of Business and Public Policy":MAILTO:sac@alaska.edu
END:VEVENT
BEGIN:VEVENT
DTSTART;VALUE=DATE:20230413
DTEND;VALUE=DATE:20230415
DTSTAMP:20260421T052652
CREATED:20221214T161555Z
LAST-MODIFIED:20221214T161600Z
UID:10001799-1681344000-1681516799@www.akbizmag.com
SUMMARY:Alaska State HR Conference
DESCRIPTION:media_photos | envato \n			\n				\n				\n				\n				\n				The Alaska State HR Conference is the premier event connecting and developing Alaska’s HR Professionals.
URL:https://www.akbizmag.com/alaska-events/alaska-state-hr-conference-2/
LOCATION:Hotel Captain Cook\, 939 W 5th Avenue\, Anchorage\, AK\, 99501\, United States
ATTACH;FMTTYPE=image/webp:https://www.akbizmag.com/wp-content/uploads/2022/12/event-human-resources-conference-envato-by-media_photos.webp
END:VEVENT
BEGIN:VEVENT
DTSTART;TZID=America/Anchorage:20230413T183000
DTEND;TZID=America/Anchorage:20230413T201500
DTSTAMP:20260421T052652
CREATED:20230324T172802Z
LAST-MODIFIED:20230324T172807Z
UID:10001802-1681410600-1681416900@www.akbizmag.com
SUMMARY:The Future of Cook Inlet Energy
DESCRIPTION:pneisen | istock \n			\n				\n				\n				\n				\n				In light of looming Cook Inlet natural gas shortfalls and yesterday’s introduction of Renewable Portfolio Standard legislation\, it is critical to continue the conversation about the energy challenges Southcentral faces\, the renewable energy solutions available\, and the roadblocks that must be dealt with in order to secure Alaska’s energy future. \nJoin REAP for another in-depth discussion with Alaskan energy experts about the urgency of acting now to develop the state’s vast\, local\, and stably-priced renewable energy resources that will reduce electricity rates\, create good-paying jobs\, and make Alaska more energy independent.
URL:https://www.akbizmag.com/alaska-events/the-future-of-cook-inlet-energy/
LOCATION:Anchorage Museum\, 625 C Street\, Anchorage\, AK\, 99501\, United States
ATTACH;FMTTYPE=image/webp:https://www.akbizmag.com/wp-content/uploads/2023/03/webp-cook-inlet-iStock-185967796.webp
END:VEVENT
END:VCALENDAR