BEGIN:VCALENDAR
VERSION:2.0
PRODID:-//Alaska Business Magazine - ECPv6.15.18//NONSGML v1.0//EN
CALSCALE:GREGORIAN
METHOD:PUBLISH
X-WR-CALNAME:Alaska Business Magazine
X-ORIGINAL-URL:https://www.akbizmag.com
X-WR-CALDESC:Events for Alaska Business Magazine
REFRESH-INTERVAL;VALUE=DURATION:PT1H
X-Robots-Tag:noindex
X-PUBLISHED-TTL:PT1H
BEGIN:VTIMEZONE
TZID:UTC
BEGIN:STANDARD
TZOFFSETFROM:+0000
TZOFFSETTO:+0000
TZNAME:UTC
DTSTART:20180101T000000
END:STANDARD
END:VTIMEZONE
BEGIN:VTIMEZONE
TZID:America/Anchorage
BEGIN:DAYLIGHT
TZOFFSETFROM:-0900
TZOFFSETTO:-0800
TZNAME:AKDT
DTSTART:20180311T110000
END:DAYLIGHT
BEGIN:STANDARD
TZOFFSETFROM:-0800
TZOFFSETTO:-0900
TZNAME:AKST
DTSTART:20181104T100000
END:STANDARD
BEGIN:DAYLIGHT
TZOFFSETFROM:-0900
TZOFFSETTO:-0800
TZNAME:AKDT
DTSTART:20190310T110000
END:DAYLIGHT
BEGIN:STANDARD
TZOFFSETFROM:-0800
TZOFFSETTO:-0900
TZNAME:AKST
DTSTART:20191103T100000
END:STANDARD
BEGIN:DAYLIGHT
TZOFFSETFROM:-0900
TZOFFSETTO:-0800
TZNAME:AKDT
DTSTART:20200308T110000
END:DAYLIGHT
BEGIN:STANDARD
TZOFFSETFROM:-0800
TZOFFSETTO:-0900
TZNAME:AKST
DTSTART:20201101T100000
END:STANDARD
END:VTIMEZONE
BEGIN:VEVENT
DTSTART;TZID=UTC:20190226T080000
DTEND;TZID=UTC:20190226T170000
DTSTAMP:20260422T045714
CREATED:20190214T070714Z
LAST-MODIFIED:20190214T072614Z
UID:10001414-1551168000-1551200400@www.akbizmag.com
SUMMARY:2-Day AK-CESCL (Alaska Certified Erosion and Sediment Control Lead) Class
DESCRIPTION:AK-CESCL (Alaska Certified Erosion and Sediment Control Lead) is a training and certification program to enhance compliance with the Alaska Department of Environmental Conservation Construction General Permit for storm water discharges. \nThe training is a two-day course that includes the erosion and sedimentation processes\, the regulatory requirements\, Storm Water Pollution Prevention Plans\, Best Management Practices\, inspection\, record-keeping\, and cold climate challenges. To become certified\, an individual must attend the entire course and pass a written exam. The certification is valid for three years.
URL:https://www.akbizmag.com/alaska-events/2-day-ak-cescl-alaska-certified-erosion-and-sediment-control-lead-class/2019-02-26/
LOCATION:Menard Sports Center\, Wasilla\, AK\, United States
ATTACH;FMTTYPE=image/jpeg:https://www.akbizmag.com/wp-content/uploads/2019/02/northstar-CESCL-2-day-class-event.jpg
END:VEVENT
BEGIN:VEVENT
DTSTART;VALUE=DATE:20190227
DTEND;VALUE=DATE:20190301
DTSTAMP:20260422T045714
CREATED:20190111T035536Z
LAST-MODIFIED:20190111T035536Z
UID:10001410-1551225600-1551398399@www.akbizmag.com
SUMMARY:SWAMC Annual Conference
DESCRIPTION:The Southwest Alaska Municipal Conference advocates for its region by “providing accurate research and information\, developing regional consensus on issues\, and conveying local and regional priorities to government agencies\, the Southwest Alaska Legislative Delegation\, and the Alaska Congressional Delegation.”
URL:https://www.akbizmag.com/alaska-events/swamc-annual-conference/
LOCATION:Hotel Captain Cook\, 939 W 5th Avenue\, Anchorage\, AK\, 99501\, United States
ATTACH;FMTTYPE=image/jpeg:https://www.akbizmag.com/wp-content/uploads/2019/01/swamc-annual-conference.jpg
END:VEVENT
BEGIN:VEVENT
DTSTART;VALUE=DATE:20190227
DTEND;VALUE=DATE:20190303
DTSTAMP:20260422T045714
CREATED:20190110T050027Z
LAST-MODIFIED:20190115T024950Z
UID:10001400-1551225600-1551571199@www.akbizmag.com
SUMMARY:Alaska Anthropological Association Annual Meeting
DESCRIPTION:UAF Northwest\, Nome: The annual meeting includes workshops\, an evening reception for information and registration\, paper presentations\, an awards banquet\, and keynote speakers Dr. Igor Krupnik and Bernadette Yaayuk Alvanna-Stimpfle.
URL:https://www.akbizmag.com/alaska-events/alaska-anthropological-association-annual-meeting/
LOCATION:UAF Northwest\, 400 Front St\, Nome\, AK\, 99762\, United States
ATTACH;FMTTYPE=image/jpeg:https://www.akbizmag.com/wp-content/uploads/2019/01/anthropological-association-featured.jpg
END:VEVENT
BEGIN:VEVENT
DTSTART;TZID=UTC:20190227T080000
DTEND;TZID=UTC:20190227T170000
DTSTAMP:20260422T045715
CREATED:20190214T070714Z
LAST-MODIFIED:20190214T072614Z
UID:10001415-1551254400-1551286800@www.akbizmag.com
SUMMARY:2-Day AK-CESCL (Alaska Certified Erosion and Sediment Control Lead) Class
DESCRIPTION:AK-CESCL (Alaska Certified Erosion and Sediment Control Lead) is a training and certification program to enhance compliance with the Alaska Department of Environmental Conservation Construction General Permit for storm water discharges. \nThe training is a two-day course that includes the erosion and sedimentation processes\, the regulatory requirements\, Storm Water Pollution Prevention Plans\, Best Management Practices\, inspection\, record-keeping\, and cold climate challenges. To become certified\, an individual must attend the entire course and pass a written exam. The certification is valid for three years.
URL:https://www.akbizmag.com/alaska-events/2-day-ak-cescl-alaska-certified-erosion-and-sediment-control-lead-class/2019-02-27/
LOCATION:Menard Sports Center\, Wasilla\, AK\, United States
ATTACH;FMTTYPE=image/jpeg:https://www.akbizmag.com/wp-content/uploads/2019/02/northstar-CESCL-2-day-class-event.jpg
END:VEVENT
BEGIN:VEVENT
DTSTART;TZID=UTC:20190227T130000
DTEND;TZID=UTC:20190227T170000
DTSTAMP:20260422T045715
CREATED:20190221T005357Z
LAST-MODIFIED:20190221T005357Z
UID:10001419-1551272400-1551286800@www.akbizmag.com
SUMMARY:AACA Recurrent Hazmat Training
DESCRIPTION:$150 per person if not registered the AACA Annual Convention  Space is limited\, pre-registration required.
URL:https://www.akbizmag.com/alaska-events/aaca-recurrent-hazmat-training/
LOCATION:Anchorage Field Maintenance Building (Room AM 1071)\, 5740 DeHavilland Avenue\, Anchorage\, AK\, 99502\, United States
CATEGORIES:Education
ATTACH;FMTTYPE=image/jpeg:https://www.akbizmag.com/wp-content/uploads/2019/02/2019-02-20_07-52-13.jpg
ORGANIZER;CN="Alaska Air Carriers Association":MAILTO:events@alaskaaircarriers.org
END:VEVENT
BEGIN:VEVENT
DTSTART;VALUE=DATE:20190228
DTEND;VALUE=DATE:20190304
DTSTAMP:20260422T045715
CREATED:20190110T050909Z
LAST-MODIFIED:20190110T050909Z
UID:10001401-1551312000-1551657599@www.akbizmag.com
SUMMARY:Alaska Library Association Annual Conference
DESCRIPTION:Juneau: AkLA is a nonprofit professional organization for the employees\, volunteers\, and advocates at academic\, public\, school\, and special libraries of all sizes in Alaska\, as well as library products and services vendors.
URL:https://www.akbizmag.com/alaska-events/alaska-library-association-annual-conference/
ATTACH;FMTTYPE=image/jpeg:https://www.akbizmag.com/wp-content/uploads/2019/01/library-association-featured.jpg
END:VEVENT
BEGIN:VEVENT
DTSTART;TZID=UTC:20190228T080000
DTEND;TZID=UTC:20190228T170000
DTSTAMP:20260422T045715
CREATED:20190221T005615Z
LAST-MODIFIED:20190221T005615Z
UID:10001420-1551340800-1551373200@www.akbizmag.com
SUMMARY:AACA Initial Hazmat Training  
DESCRIPTION:$300 per person if not registered for the AACA Annual Convention
URL:https://www.akbizmag.com/alaska-events/aaca-initial-hazmat-training-%e2%80%a8/
LOCATION:Anchorage Field Maintenance Building (Room AM 1071)\, 5740 DeHavilland Avenue\, Anchorage\, AK\, 99502\, United States
CATEGORIES:Education
ATTACH;FMTTYPE=image/jpeg:https://www.akbizmag.com/wp-content/uploads/2019/02/2019-02-20_07-52-13.jpg
ORGANIZER;CN="Alaska Air Carriers Association":MAILTO:events@alaskaaircarriers.org
END:VEVENT
BEGIN:VEVENT
DTSTART;TZID=America/Anchorage:20190304T183000
DTEND;TZID=America/Anchorage:20190304T203000
DTSTAMP:20260422T045715
CREATED:20190226T060143Z
LAST-MODIFIED:20190226T060820Z
UID:10001422-1551724200-1551731400@www.akbizmag.com
SUMMARY:The Housing Continuum\, Part 1: The Current Supply & Demand
DESCRIPTION:Alaska Common Grounds will explore the latest findings on Anchorage’s housing needs—for today and the future—with a focus on workforce\, millennials\, senior\, supportive\, and low-income housing. \nModerated by Thea Agnew Bemben of Agnew::Beck \n\nCarol Gore\, Cook Inlet Housing Authority\nJanelle Pfleiger\, RE/MAX Dynamic Properties\nJasmine Khan\, Anchorage Coalition to End Homelessness\nMark Romick\, Alaska Housing Finance Corporation\nMoira Gallagher\, Anchorage Economic Development Corporation
URL:https://www.akbizmag.com/alaska-events/the-housing-continuum-part-1-the-current-supply-demand/
LOCATION:Anchorage Museum\, 625 C Street\, Anchorage\, AK\, 99501\, United States
ATTACH;FMTTYPE=image/png:https://www.akbizmag.com/wp-content/uploads/2019/02/unnamed-3-1.png
END:VEVENT
BEGIN:VEVENT
DTSTART;VALUE=DATE:20190307
DTEND;VALUE=DATE:20190309
DTSTAMP:20260422T045715
CREATED:20190110T055337Z
LAST-MODIFIED:20190110T055337Z
UID:10001402-1551916800-1552089599@www.akbizmag.com
SUMMARY:Alaska Forest Association Spring Meeting
DESCRIPTION:Baranof Hotel\, Juneau: The Alaska Forest Association can be characterized as a high-profile industry trade association. \nIts members hold in common general business interests in the timber industry of Alaska.
URL:https://www.akbizmag.com/alaska-events/alaska-forest-association-spring-meeting/
ATTACH;FMTTYPE=image/jpeg:https://www.akbizmag.com/wp-content/uploads/2019/01/forest-association-featured.jpg
END:VEVENT
BEGIN:VEVENT
DTSTART;VALUE=DATE:20190308
DTEND;VALUE=DATE:20190310
DTSTAMP:20260422T045715
CREATED:20190215T043012Z
LAST-MODIFIED:20190215T043411Z
UID:10001416-1552003200-1552175999@www.akbizmag.com
SUMMARY:2019 Alaska Food Festival and Conference
DESCRIPTION:Registration open for Alaska Food Festival and Conference on March 8-9 in Homer. Hosted by the Alaska Food Policy Council (AFPC)\, this semi-annual event previously took place in Anchorage in 2014 and 2016 and in Fairbanks in 2017. This year\, the Alaska Farmers Market Association is co-hosting the conference.
URL:https://www.akbizmag.com/alaska-events/2019-alaska-food-festival-and-conference/
LOCATION:Lands End Resort – Homer\, Alaska\, 8001\, 4786 Homer Spit Rd\, Homer\, AK\, 99603\, United States
ATTACH;FMTTYPE=image/jpeg:https://www.akbizmag.com/wp-content/uploads/2019/02/akbiz-pressrelease-02-14-19.jpg
ORGANIZER;CN="Alaska Food Policy Council":MAILTO:akfoodpolicycouncil@gmail.com
END:VEVENT
BEGIN:VEVENT
DTSTART;TZID=America/Anchorage:20190318T183000
DTEND;TZID=America/Anchorage:20190318T203000
DTSTAMP:20260422T045715
CREATED:20190226T060853Z
LAST-MODIFIED:20190226T060853Z
UID:10001423-1552933800-1552941000@www.akbizmag.com
SUMMARY:The Housing Continuum\, Part 2: Housing Supply: What are the Barriers?
DESCRIPTION:Attendees will gain an understanding of the current challenges to addressing Anchorage’s priority housing needs. \nModerated by Thea Agnew Bemben of Agnew::Beck \n\nShanna Zuspan\, Agnew::Beck\nTyler Robinson\, Cook Inlet Housing Authority\nMichelle McNulty\, Municipality of Anchorage\nTim Potter\, DOWL\nGreg Cerbana\, Weidner Apartment Homes
URL:https://www.akbizmag.com/alaska-events/the-housing-continuum-part-2-housing-supply-what-are-the-barriers/
LOCATION:Anchorage Museum\, 625 C Street\, Anchorage\, AK\, 99501\, United States
ATTACH;FMTTYPE=image/png:https://www.akbizmag.com/wp-content/uploads/2019/02/unnamed-3-1.png
END:VEVENT
BEGIN:VEVENT
DTSTART;TZID=UTC:20190321T080000
DTEND;TZID=UTC:20190321T123000
DTSTAMP:20260422T045715
CREATED:20190221T003532Z
LAST-MODIFIED:20190221T003532Z
UID:10001418-1553155200-1553171400@www.akbizmag.com
SUMMARY:2019 Anchorage Women in Leadership Symposium
DESCRIPTION:The mission of the National Women in Leadership Symposium is to bring together a diverse mix of successful women leaders who\, through the discussion of topics relevant to today’s issues\, educate\, inspire and encourage women to reflect on their own goals and status as they strive to move higher in their organizations.
URL:https://www.akbizmag.com/alaska-events/2019-anchorage-women-in-leadership-symposium/
CATEGORIES:Alaska Business
ATTACH;FMTTYPE=image/jpeg:https://www.akbizmag.com/wp-content/uploads/2019/02/2019-02-20_07-34-58.jpg
END:VEVENT
END:VCALENDAR