BEGIN:VCALENDAR
VERSION:2.0
PRODID:-//Alaska Business Magazine - ECPv6.15.18//NONSGML v1.0//EN
CALSCALE:GREGORIAN
METHOD:PUBLISH
X-ORIGINAL-URL:https://www.akbizmag.com
X-WR-CALDESC:Events for Alaska Business Magazine
REFRESH-INTERVAL;VALUE=DURATION:PT1H
X-Robots-Tag:noindex
X-PUBLISHED-TTL:PT1H
BEGIN:VTIMEZONE
TZID:America/Anchorage
BEGIN:DAYLIGHT
TZOFFSETFROM:-0900
TZOFFSETTO:-0800
TZNAME:AKDT
DTSTART:20240310T110000
END:DAYLIGHT
BEGIN:STANDARD
TZOFFSETFROM:-0800
TZOFFSETTO:-0900
TZNAME:AKST
DTSTART:20241103T100000
END:STANDARD
BEGIN:DAYLIGHT
TZOFFSETFROM:-0900
TZOFFSETTO:-0800
TZNAME:AKDT
DTSTART:20250309T110000
END:DAYLIGHT
BEGIN:STANDARD
TZOFFSETFROM:-0800
TZOFFSETTO:-0900
TZNAME:AKST
DTSTART:20251102T100000
END:STANDARD
BEGIN:DAYLIGHT
TZOFFSETFROM:-0900
TZOFFSETTO:-0800
TZNAME:AKDT
DTSTART:20260308T110000
END:DAYLIGHT
BEGIN:STANDARD
TZOFFSETFROM:-0800
TZOFFSETTO:-0900
TZNAME:AKST
DTSTART:20261101T100000
END:STANDARD
END:VTIMEZONE
BEGIN:VEVENT
DTSTART;VALUE=DATE:20250905
DTEND;VALUE=DATE:20250908
DTSTAMP:20260420T071645
CREATED:20250728T172943Z
LAST-MODIFIED:20250813T165502Z
UID:10001999-1757030400-1757289599@www.akbizmag.com
SUMMARY:Techstars Startup Weekend
DESCRIPTION:Photo Credit: Alaska Version 3 \n			\n				\n				\n				\n				\n				Startup Weekend is a three-day program through which aspiring entrepreneurs can experience startup life. It’s held in hundreds of cities around the world. Startup Weekend is a good place to connect with passionate people driven to build something new. It provides participants many opportunities to engage and connect with like-minded individuals and to truly start something amazing. Learn what it really takes to innovate\, disrupt\, and start a company from people who’ve been there. The Anchorage Startup Weekend will be focused on the Alaska tourism and visitor industry and the market opportunities related to the industry. Help explore and grow this valuable part of the Alaska economy.
URL:https://www.akbizmag.com/alaska-events/techstars-startup-weekend/
LOCATION:Pioneer School House\, 437 E 3rd Ave\, Anchorage\, AK\, 99501\, United States
ATTACH;FMTTYPE=image/webp:https://www.akbizmag.com/wp-content/uploads/2025/07/EVENT-Techstars-Startup-Weekend.webp
ORGANIZER;CN="Alaska Version 3":MAILTO:http://akv3.com/contactus
END:VEVENT
END:VCALENDAR