BEGIN:VCALENDAR
VERSION:2.0
PRODID:-//Alaska Business Magazine - ECPv6.15.18//NONSGML v1.0//EN
CALSCALE:GREGORIAN
METHOD:PUBLISH
X-WR-CALNAME:Alaska Business Magazine
X-ORIGINAL-URL:https://www.akbizmag.com
X-WR-CALDESC:Events for Alaska Business Magazine
REFRESH-INTERVAL;VALUE=DURATION:PT1H
X-Robots-Tag:noindex
X-PUBLISHED-TTL:PT1H
BEGIN:VTIMEZONE
TZID:America/Anchorage
BEGIN:DAYLIGHT
TZOFFSETFROM:-0900
TZOFFSETTO:-0800
TZNAME:AKDT
DTSTART:20240310T110000
END:DAYLIGHT
BEGIN:STANDARD
TZOFFSETFROM:-0800
TZOFFSETTO:-0900
TZNAME:AKST
DTSTART:20241103T100000
END:STANDARD
BEGIN:DAYLIGHT
TZOFFSETFROM:-0900
TZOFFSETTO:-0800
TZNAME:AKDT
DTSTART:20250309T110000
END:DAYLIGHT
BEGIN:STANDARD
TZOFFSETFROM:-0800
TZOFFSETTO:-0900
TZNAME:AKST
DTSTART:20251102T100000
END:STANDARD
BEGIN:DAYLIGHT
TZOFFSETFROM:-0900
TZOFFSETTO:-0800
TZNAME:AKDT
DTSTART:20260308T110000
END:DAYLIGHT
BEGIN:STANDARD
TZOFFSETFROM:-0800
TZOFFSETTO:-0900
TZNAME:AKST
DTSTART:20261101T100000
END:STANDARD
END:VTIMEZONE
BEGIN:VEVENT
DTSTART;TZID=America/Anchorage:20250530T120000
DTEND;TZID=America/Anchorage:20250530T170000
DTSTAMP:20260420T065942
CREATED:20250512T220428Z
LAST-MODIFIED:20250512T220441Z
UID:10001988-1748606400-1748624400@www.akbizmag.com
SUMMARY:Alaska Safety Alliance Safety Expo 2025 (Fairbanks)
DESCRIPTION:Photo Credit: Alaska Safety Alliance \n			\n				\n				\n				\n				\n				The Alaska Safety Alliance and Associated Builders and Contractors of Alaska are hosting the 2025 Safety Expo\, with events in Anchorage and Fairbanks\, in May. The events are free and open to the public. Pre-registration for training sessions is required\, and space is limited. Training attendees must be older than 18 years of age\, but anyone is welcome to visit the safety vendors and food trucks.
URL:https://www.akbizmag.com/alaska-events/alaska-safety-alliance-safety-expo-2025-fairbanks/
LOCATION:J.P. Jones Center\, 2400 Rickert St\, Fairbanks\, AK\, 99701\, United States
ATTACH;FMTTYPE=image/webp:https://www.akbizmag.com/wp-content/uploads/2025/05/EVENT-Alaska-Safety-Alliance-Safety-Expo-2025-copy.webp
ORGANIZER;CN="Alaska Safety Alliance":MAILTO:info@alaskasafetyalliance.org
END:VEVENT
END:VCALENDAR